BEGIN:VCALENDAR
VERSION:2.0
PRODID:-//Warble Media iCal v1.1.0//NONSGML v1.1.0//EN
METHOD:PUBLISH
CALSCALE:GREGORIAN
X-WR-CALNAME:National Asphalt Pavement Association
X-WR-TIMEZONE:America/New_York
BEGIN:VEVENT
UID:napa-events-455
DTSTAMP:20260922T000000
DTSTART:20260922T000000
DTEND:20260923T000000
SUMMARY:Hill Day 2026
LOCATION:Washington\, DC\nUnited States
END:VEVENT
END:VCALENDAR