BEGIN:VCALENDAR
VERSION:2.0
PRODID:-//Warble Media iCal v1.1.0//NONSGML v1.1.0//EN
METHOD:PUBLISH
CALSCALE:GREGORIAN
X-WR-CALNAME:National Asphalt Pavement Association
X-WR-TIMEZONE:America/New_York
BEGIN:VEVENT
UID:napa-events-111
DTSTAMP:20260511T000000
DTSTART:20260511T000000
DTEND:20260514T000000
SUMMARY:Transportation Construction Coalition Fly-In
LOCATION:Washington\, DC\nUnited States
END:VEVENT
END:VCALENDAR